BEGIN:VCALENDAR
VERSION:2.0
PRODID:-//Tauchclub bubbles - ECPv6.15.20//NONSGML v1.0//EN
CALSCALE:GREGORIAN
METHOD:PUBLISH
X-WR-CALNAME:Tauchclub bubbles
X-ORIGINAL-URL:https://www.bubbles.li
X-WR-CALDESC:Veranstaltungen für Tauchclub bubbles
REFRESH-INTERVAL;VALUE=DURATION:PT1H
X-Robots-Tag:noindex
X-PUBLISHED-TTL:PT1H
BEGIN:VTIMEZONE
TZID:Europe/Vienna
BEGIN:DAYLIGHT
TZOFFSETFROM:+0100
TZOFFSETTO:+0200
TZNAME:CEST
DTSTART:20250330T010000
END:DAYLIGHT
BEGIN:STANDARD
TZOFFSETFROM:+0200
TZOFFSETTO:+0100
TZNAME:CET
DTSTART:20251026T010000
END:STANDARD
BEGIN:DAYLIGHT
TZOFFSETFROM:+0100
TZOFFSETTO:+0200
TZNAME:CEST
DTSTART:20260329T010000
END:DAYLIGHT
BEGIN:STANDARD
TZOFFSETFROM:+0200
TZOFFSETTO:+0100
TZNAME:CET
DTSTART:20261025T010000
END:STANDARD
BEGIN:DAYLIGHT
TZOFFSETFROM:+0100
TZOFFSETTO:+0200
TZNAME:CEST
DTSTART:20270328T010000
END:DAYLIGHT
BEGIN:STANDARD
TZOFFSETFROM:+0200
TZOFFSETTO:+0100
TZNAME:CET
DTSTART:20271031T010000
END:STANDARD
END:VTIMEZONE
BEGIN:VEVENT
DTSTART;TZID=Europe/Vienna:20260416T200000
DTEND;TZID=Europe/Vienna:20260416T223000
DTSTAMP:20260421T142059
CREATED:20260306T063308Z
LAST-MODIFIED:20260306T063315Z
UID:10001427-1776369600-1776378600@www.bubbles.li
SUMMARY:Küche: A.S.
DESCRIPTION:Danke
URL:https://www.bubbles.li/kalender/kueche-offen-8-7-15/
END:VEVENT
BEGIN:VEVENT
DTSTART;TZID=Europe/Vienna:20260416T190000
DTEND;TZID=Europe/Vienna:20260416T200000
DTSTAMP:20260421T142059
CREATED:20251029T055851Z
LAST-MODIFIED:20251029T055852Z
UID:10001383-1776366000-1776369600@www.bubbles.li
SUMMARY:Schwimmtraining
DESCRIPTION:Ort: Hallenbad Eschen
URL:https://www.bubbles.li/kalender/schwimmtraining-10-2-2/2026-04-16/
END:VEVENT
BEGIN:VEVENT
DTSTART;TZID=Europe/Vienna:20260411T090000
DTEND;TZID=Europe/Vienna:20260411T150000
DTSTAMP:20260421T142059
CREATED:20251218T183022Z
LAST-MODIFIED:20260415T054647Z
UID:10001448-1775898000-1775919600@www.bubbles.li
SUMMARY:Clubheimreinigung 2026
DESCRIPTION:Damit unser tolles Clubheim uns auch weiterhin Freude macht\, soll es auch gehegt und gepflegt werden. Darum treffen wir uns zur gemeinsamen Clubhausreinigung. \nFür Verpflegung wird gesorgt sein. Wir freuen uns über jede Anmeldung – viele Hände schaffen mehr in kurzer Zeit. \nTreffpunkt vor Ort: 09.00 Uhr \nANMELDUNG ERFORDERLICH\nAnmeldeschluss: 09.04.2026
URL:https://www.bubbles.li/kalender/clubheimreinigung-2026/
END:VEVENT
BEGIN:VEVENT
DTSTART;TZID=Europe/Vienna:20260409T200000
DTEND;TZID=Europe/Vienna:20260409T223000
DTSTAMP:20260421T142059
CREATED:20260306T063154Z
LAST-MODIFIED:20260306T063233Z
UID:10001426-1775764800-1775773800@www.bubbles.li
SUMMARY:Küche: J.+M.
DESCRIPTION:Danke
URL:https://www.bubbles.li/kalender/kueche-offen-8-7-14/
END:VEVENT
BEGIN:VEVENT
DTSTART;TZID=Europe/Vienna:20260409T190000
DTEND;TZID=Europe/Vienna:20260409T200000
DTSTAMP:20260421T142059
CREATED:20251029T055851Z
LAST-MODIFIED:20251029T055852Z
UID:10001382-1775761200-1775764800@www.bubbles.li
SUMMARY:Schwimmtraining
DESCRIPTION:Ort: Hallenbad Eschen
URL:https://www.bubbles.li/kalender/schwimmtraining-10-2-2/2026-04-09/
END:VEVENT
BEGIN:VEVENT
DTSTART;TZID=Europe/Vienna:20260406T092000
DTEND;TZID=Europe/Vienna:20260406T140000
DTSTAMP:20260421T142059
CREATED:20251218T183011Z
LAST-MODIFIED:20260331T094131Z
UID:10001447-1775467200-1775484000@www.bubbles.li
SUMMARY:Ostertauchen / Antauchen 2026
DESCRIPTION:Wir starten zu Ostern die „Eiersuche“ am Tiefenwinkel. Im Anschluss an den Tauchgang grillen wir bei schönem Wetter vor Ort oder alternativ gehen wir Mittagessen. \nAbfahrt Clubheim: 9:20 Uhr\nOsterjagd/Treffpunkt vor Ort: 10:00 Uhr \nANMELDUNG ERFORDERLICH \nBitte Kinder mit anmelden\, damit der Osterhase fleissig Einkaufen gehen kann.\nAnmeldeschluss: 30. März 2026
URL:https://www.bubbles.li/kalender/ostertauchen-antauchen-2026/
END:VEVENT
BEGIN:VEVENT
DTSTART;TZID=Europe/Vienna:20260402T200000
DTEND;TZID=Europe/Vienna:20260402T223000
DTSTAMP:20260421T142059
CREATED:20260306T063104Z
LAST-MODIFIED:20260306T063113Z
UID:10001425-1775160000-1775169000@www.bubbles.li
SUMMARY:Küche: K.R.
DESCRIPTION:Danke
URL:https://www.bubbles.li/kalender/kueche-offen-8-7-13/
END:VEVENT
BEGIN:VEVENT
DTSTART;TZID=Europe/Vienna:20260402T190000
DTEND;TZID=Europe/Vienna:20260402T200000
DTSTAMP:20260421T142059
CREATED:20251029T055851Z
LAST-MODIFIED:20251029T055852Z
UID:10001381-1775156400-1775160000@www.bubbles.li
SUMMARY:Schwimmtraining
DESCRIPTION:Ort: Hallenbad Eschen
URL:https://www.bubbles.li/kalender/schwimmtraining-10-2-2/2026-04-02/
END:VEVENT
BEGIN:VEVENT
DTSTART;TZID=Europe/Vienna:20260326T200000
DTEND;TZID=Europe/Vienna:20260326T223000
DTSTAMP:20260421T142059
CREATED:20251219T061907Z
LAST-MODIFIED:20251219T061917Z
UID:10001424-1774555200-1774564200@www.bubbles.li
SUMMARY:Küche: K.+J.
DESCRIPTION:Danke
URL:https://www.bubbles.li/kalender/kueche-offen-8-7-11/
END:VEVENT
BEGIN:VEVENT
DTSTART;TZID=Europe/Vienna:20260326T190000
DTEND;TZID=Europe/Vienna:20260326T200000
DTSTAMP:20260421T142059
CREATED:20251029T055851Z
LAST-MODIFIED:20251029T055852Z
UID:10001380-1774551600-1774555200@www.bubbles.li
SUMMARY:Schwimmtraining
DESCRIPTION:Ort: Hallenbad Eschen
URL:https://www.bubbles.li/kalender/schwimmtraining-10-2-2/2026-03-26/
END:VEVENT
BEGIN:VEVENT
DTSTART;TZID=Europe/Vienna:20260318T190000
DTEND;TZID=Europe/Vienna:20260318T200000
DTSTAMP:20260421T142059
CREATED:20251030T151808Z
LAST-MODIFIED:20251117T142741Z
UID:10001445-1773860400-1773864000@www.bubbles.li
SUMMARY:Infoabend D1 (CMAS) 2026
DESCRIPTION:Weitere Informationen zum D1 CMAS Einsteigerkurs \nAn diesem Abend informieren wir alle interessierten Tauchanfänger über den D1 (CMAS) Tauchkurs der vom Tauchclub bubbles durchgeführt wird. \nBesprochen werden die Anforderungen\, Inhalte und Ziele vom Kurs. Es wird an diesem Abend auch schon ein grober Zeitplan festgelegt. \nOrt: Clubheim Tauchclub bubbles e.V.\nDatum: Mittwoch\, 18. März 2026\nStart: 19:00 Uhr \nAnmeldung erforderlich: info@bubbles.li oder g_roider@icloud.com
URL:https://www.bubbles.li/kalender/infoabend-d1-cmas-2026/
END:VEVENT
BEGIN:VEVENT
DTSTART;TZID=Europe/Vienna:20260314T133000
DTEND;TZID=Europe/Vienna:20260314T173000
DTSTAMP:20260421T142059
CREATED:20251030T151609Z
LAST-MODIFIED:20260311T073604Z
UID:10001444-1773495000-1773509400@www.bubbles.li
SUMMARY:Schnuppertauchen 2026
DESCRIPTION:!!!Keine Anmeldung mehr möglich – das Schnuppertauchen 2026 ist bereits voll ausgebucht!!! \nWeitere Informationen zum Schnuppertauchen und zum CMS D1 Kurs. \nOrt: Hallenbad Eschen\nDatum: Samstag\, 14. März 2026\nZeit: 13:30 Uhr \nFür die Anmeldung bitte den Antrag herunterladen\, ausfüllen und per E-Mail an info@bubbles.li senden. \nMaximale Teilnehmerzahl: 20 Personen \n!!!Keine Anmeldung mehr möglich – das Schnuppertauchen 2026 ist bereits voll ausgebucht!!!
URL:https://www.bubbles.li/kalender/schnuppertauchen-2026/
END:VEVENT
BEGIN:VEVENT
DTSTART;TZID=Europe/Vienna:20260312T200000
DTEND;TZID=Europe/Vienna:20260312T223000
DTSTAMP:20260421T142059
CREATED:20251017T051013Z
LAST-MODIFIED:20251017T051026Z
UID:10001423-1773345600-1773354600@www.bubbles.li
SUMMARY:Küche: A.O.
DESCRIPTION:Danke
URL:https://www.bubbles.li/kalender/kueche-offen-8-7-4/
END:VEVENT
BEGIN:VEVENT
DTSTART;TZID=Europe/Vienna:20260312T190000
DTEND;TZID=Europe/Vienna:20260312T200000
DTSTAMP:20260421T142059
CREATED:20251029T055851Z
LAST-MODIFIED:20251029T055852Z
UID:10001379-1773342000-1773345600@www.bubbles.li
SUMMARY:Schwimmtraining
DESCRIPTION:Ort: Hallenbad Eschen
URL:https://www.bubbles.li/kalender/schwimmtraining-10-2-2/2026-03-12/
END:VEVENT
BEGIN:VEVENT
DTSTART;TZID=Europe/Vienna:20260305T200000
DTEND;TZID=Europe/Vienna:20260305T223000
DTSTAMP:20260421T142059
CREATED:20251212T064534Z
LAST-MODIFIED:20251212T064550Z
UID:10001422-1772740800-1772749800@www.bubbles.li
SUMMARY:Küche: A.F.
DESCRIPTION:Danke
URL:https://www.bubbles.li/kalender/kueche-offen-8-7-6/
END:VEVENT
BEGIN:VEVENT
DTSTART;TZID=Europe/Vienna:20260305T190000
DTEND;TZID=Europe/Vienna:20260305T200000
DTSTAMP:20260421T142059
CREATED:20251029T055851Z
LAST-MODIFIED:20251029T055852Z
UID:10001378-1772737200-1772740800@www.bubbles.li
SUMMARY:Schwimmtraining
DESCRIPTION:Ort: Hallenbad Eschen
URL:https://www.bubbles.li/kalender/schwimmtraining-10-2-2/2026-03-05/
END:VEVENT
BEGIN:VEVENT
DTSTART;TZID=Europe/Vienna:20260226T200000
DTEND;TZID=Europe/Vienna:20260226T223000
DTSTAMP:20260421T142059
CREATED:20251219T061819Z
LAST-MODIFIED:20251219T061827Z
UID:10001421-1772136000-1772145000@www.bubbles.li
SUMMARY:Küche: W.+S.
DESCRIPTION:Danke
URL:https://www.bubbles.li/kalender/kueche-offen-8-7-10/
END:VEVENT
BEGIN:VEVENT
DTSTART;TZID=Europe/Vienna:20260226T190000
DTEND;TZID=Europe/Vienna:20260226T200000
DTSTAMP:20260421T142059
CREATED:20251029T055851Z
LAST-MODIFIED:20251029T055852Z
UID:10001377-1772132400-1772136000@www.bubbles.li
SUMMARY:Schwimmtraining
DESCRIPTION:Ort: Hallenbad Eschen
URL:https://www.bubbles.li/kalender/schwimmtraining-10-2-2/2026-02-26/
END:VEVENT
BEGIN:VEVENT
DTSTART;TZID=Europe/Vienna:20260219T200000
DTEND;TZID=Europe/Vienna:20260219T223000
DTSTAMP:20260421T142059
CREATED:20251219T061753Z
LAST-MODIFIED:20251219T061800Z
UID:10001420-1771531200-1771540200@www.bubbles.li
SUMMARY:Küche: P.G.
DESCRIPTION:Danke
URL:https://www.bubbles.li/kalender/kueche-offen-8-7-9/
END:VEVENT
BEGIN:VEVENT
DTSTART;TZID=Europe/Vienna:20260219T190000
DTEND;TZID=Europe/Vienna:20260219T200000
DTSTAMP:20260421T142059
CREATED:20251029T055851Z
LAST-MODIFIED:20251029T055852Z
UID:10001376-1771527600-1771531200@www.bubbles.li
SUMMARY:Schwimmtraining
DESCRIPTION:Ort: Hallenbad Eschen
URL:https://www.bubbles.li/kalender/schwimmtraining-10-2-2/2026-02-19/
END:VEVENT
BEGIN:VEVENT
DTSTART;TZID=Europe/Vienna:20260212T200000
DTEND;TZID=Europe/Vienna:20260212T223000
DTSTAMP:20260421T142059
CREATED:20251219T061709Z
LAST-MODIFIED:20251219T061716Z
UID:10001419-1770926400-1770935400@www.bubbles.li
SUMMARY:Küche: A.+L.
DESCRIPTION:Danke
URL:https://www.bubbles.li/kalender/kueche-offen-8-7-8/
END:VEVENT
BEGIN:VEVENT
DTSTART;TZID=Europe/Vienna:20260212T190000
DTEND;TZID=Europe/Vienna:20260212T200000
DTSTAMP:20260421T142059
CREATED:20251029T055851Z
LAST-MODIFIED:20251029T055852Z
UID:10001375-1770922800-1770926400@www.bubbles.li
SUMMARY:Schwimmtraining
DESCRIPTION:Ort: Hallenbad Eschen
URL:https://www.bubbles.li/kalender/schwimmtraining-10-2-2/2026-02-12/
END:VEVENT
BEGIN:VEVENT
DTSTART;TZID=Europe/Vienna:20260205T200000
DTEND;TZID=Europe/Vienna:20260205T223000
DTSTAMP:20260421T142059
CREATED:20251029T055735Z
LAST-MODIFIED:20251219T061626Z
UID:10001418-1770321600-1770330600@www.bubbles.li
SUMMARY:Küche: S.+W.
DESCRIPTION:Danke
URL:https://www.bubbles.li/kalender/kueche-offen-8-7-5/
END:VEVENT
BEGIN:VEVENT
DTSTART;TZID=Europe/Vienna:20260205T190000
DTEND;TZID=Europe/Vienna:20260205T200000
DTSTAMP:20260421T142059
CREATED:20251029T055851Z
LAST-MODIFIED:20251029T055852Z
UID:10001374-1770318000-1770321600@www.bubbles.li
SUMMARY:Schwimmtraining
DESCRIPTION:Ort: Hallenbad Eschen
URL:https://www.bubbles.li/kalender/schwimmtraining-10-2-2/2026-02-05/
END:VEVENT
BEGIN:VEVENT
DTSTART;TZID=Europe/Vienna:20260129T180000
DTEND;TZID=Europe/Vienna:20260129T223000
DTSTAMP:20260421T142059
CREATED:20251124T070421Z
LAST-MODIFIED:20251124T070513Z
UID:10001446-1769709600-1769725800@www.bubbles.li
SUMMARY:Winter-Abendtour
DESCRIPTION:Am Donnerstag\, 29. Januar 2026 lassen wir die Flossen im Keller und erkunden den Grabserberg bei Mondschein zu Fuss und mit dem Schlitten. \nMit den Autos fahren wir bis auf rund 1000 m ü.M.\, dann wandern wir auf der schneebedeckten Strasse zum gemütlichen Skihaus Gamperfin. Nach einem währschaften Essen sausen wir mit dem Schlitten zurück zum Autoparkplatz. \nDie Wanderung zum Skihaus Gamperfin dauert ungefähr 1 Stunde\, es sind 300 m Aufstieg zu bewältigen. Die Strasse vom Parkplatz zum Skihaus kann teilweise eisig sein. \nAusrüstung: Schlitten\, gute Winterschuhe\, Wintersportbekleidung \nTreffpunkt ist um 18.00 Uhr auf dem Marktplatz an der Marktstrasse in Grabs.\nLink Google Maps https://maps.app.goo.gl/FdSYrAZ762zTtrmd9 \nDort bilden wir Fahrgemeinschaften und fahren gemeinsam den Grabserberg hoch. Die Bergstrasse kann schneebedeckt sein\, weshalb wir bevorzugt Fahrzeuge mit Allradantrieb benutzen. \nEssensauswahl: \n\nÄlplerrösti (Speck\, Käse\, Spiegelei) CHF 24.00\nChääschnöpfli CHF 19.50\nHirschwurst mit Rösti CHF 20.00\n\nDie Essenswünsche erfragen wir am Treffpunkt und melden diese ans Skihaus zur Vorbereitung. \nBei Fragen steht Martin zur Verfügung. info@wanderleiter-martin.ch oder Tel. 079 776 16 50 \nAnmeldung bis spätestens Freitag\, 23. Januar 2026
URL:https://www.bubbles.li/kalender/winter-abendtour-2026/
END:VEVENT
BEGIN:VEVENT
DTSTART;TZID=Europe/Vienna:20260122T200000
DTEND;TZID=Europe/Vienna:20260122T223000
DTSTAMP:20260421T142059
CREATED:20251219T061516Z
LAST-MODIFIED:20251219T061534Z
UID:10001416-1769112000-1769121000@www.bubbles.li
SUMMARY:Küche: P.B.
DESCRIPTION:Danke
URL:https://www.bubbles.li/kalender/kueche-offen-8-7-7/
END:VEVENT
BEGIN:VEVENT
DTSTART;TZID=Europe/Vienna:20260122T190000
DTEND;TZID=Europe/Vienna:20260122T200000
DTSTAMP:20260421T142059
CREATED:20251017T044032Z
LAST-MODIFIED:20251017T044033Z
UID:10001372-1769108400-1769112000@www.bubbles.li
SUMMARY:Schwimmtraining
DESCRIPTION:Ort: Hallenbad Eschen
URL:https://www.bubbles.li/kalender/schwimmtraining-10-2/2026-01-22/
END:VEVENT
BEGIN:VEVENT
DTSTART;TZID=Europe/Vienna:20260115T200000
DTEND;TZID=Europe/Vienna:20260115T223000
DTSTAMP:20260421T142059
CREATED:20251121T055507Z
LAST-MODIFIED:20251121T055518Z
UID:10001415-1768507200-1768516200@www.bubbles.li
SUMMARY:Küche: M.F.
DESCRIPTION:Danke
URL:https://www.bubbles.li/kalender/kueche-offen-8-7-3/
END:VEVENT
BEGIN:VEVENT
DTSTART;TZID=Europe/Vienna:20260115T190000
DTEND;TZID=Europe/Vienna:20260115T200000
DTSTAMP:20260421T142059
CREATED:20251017T044032Z
LAST-MODIFIED:20251017T044033Z
UID:10001371-1768503600-1768507200@www.bubbles.li
SUMMARY:Schwimmtraining
DESCRIPTION:Ort: Hallenbad Eschen
URL:https://www.bubbles.li/kalender/schwimmtraining-10-2/2026-01-15/
END:VEVENT
BEGIN:VEVENT
DTSTART;TZID=Europe/Vienna:20260111T084500
DTEND;TZID=Europe/Vienna:20260111T160000
DTSTAMP:20260421T142059
CREATED:20241212T180007Z
LAST-MODIFIED:20251028T184544Z
UID:10001437-1768121100-1768147200@www.bubbles.li
SUMMARY:Dreikönigstauchen 2026
DESCRIPTION:Gemütlicher Dreikönigstauchgang in Betlis. Gemeinsames Grillen vor Ort. \nTreffpunkt: 08:30 Uhr\, Clubheim Schaan\nAbfahrt: 08:45 Uhr (Achtung Durchfahrtzeiten nach Betlis berücksichtigen!) \nAnmeldeschluss: 8. Januar 2026
URL:https://www.bubbles.li/kalender/dreikoenigstauchen-2026/
END:VEVENT
END:VCALENDAR