BEGIN:VCALENDAR
VERSION:2.0
PRODID:-//Tauchclub bubbles - ECPv6.15.20//NONSGML v1.0//EN
CALSCALE:GREGORIAN
METHOD:PUBLISH
X-WR-CALNAME:Tauchclub bubbles
X-ORIGINAL-URL:https://www.bubbles.li
X-WR-CALDESC:Veranstaltungen für Tauchclub bubbles
REFRESH-INTERVAL;VALUE=DURATION:PT1H
X-Robots-Tag:noindex
X-PUBLISHED-TTL:PT1H
BEGIN:VTIMEZONE
TZID:Europe/Vienna
BEGIN:DAYLIGHT
TZOFFSETFROM:+0100
TZOFFSETTO:+0200
TZNAME:CEST
DTSTART:20240331T010000
END:DAYLIGHT
BEGIN:STANDARD
TZOFFSETFROM:+0200
TZOFFSETTO:+0100
TZNAME:CET
DTSTART:20241027T010000
END:STANDARD
BEGIN:DAYLIGHT
TZOFFSETFROM:+0100
TZOFFSETTO:+0200
TZNAME:CEST
DTSTART:20250330T010000
END:DAYLIGHT
BEGIN:STANDARD
TZOFFSETFROM:+0200
TZOFFSETTO:+0100
TZNAME:CET
DTSTART:20251026T010000
END:STANDARD
BEGIN:DAYLIGHT
TZOFFSETFROM:+0100
TZOFFSETTO:+0200
TZNAME:CEST
DTSTART:20260329T010000
END:DAYLIGHT
BEGIN:STANDARD
TZOFFSETFROM:+0200
TZOFFSETTO:+0100
TZNAME:CET
DTSTART:20261025T010000
END:STANDARD
END:VTIMEZONE
BEGIN:VEVENT
DTSTART;TZID=Europe/Vienna:20250703T190000
DTEND;TZID=Europe/Vienna:20250703T220000
DTSTAMP:20260419T143228
CREATED:20241212T180058Z
LAST-MODIFIED:20241210T150332Z
UID:10001314-1751569200-1751580000@www.bubbles.li
SUMMARY:Sommertauchen
DESCRIPTION:Tauchgang in der Region. Tauchplatz wird kurzfristig bekannt gegeben – abhängig von Tauchkursen\, Sichtverhältnissen\, Wetterbedingungen\, etc.
URL:https://www.bubbles.li/kalender/sommertauchen-2025/2025-07-03/
END:VEVENT
BEGIN:VEVENT
DTSTART;TZID=Europe/Vienna:20250710T190000
DTEND;TZID=Europe/Vienna:20250710T220000
DTSTAMP:20260419T143228
CREATED:20241212T180058Z
LAST-MODIFIED:20241210T150332Z
UID:10001315-1752174000-1752184800@www.bubbles.li
SUMMARY:Sommertauchen
DESCRIPTION:Tauchgang in der Region. Tauchplatz wird kurzfristig bekannt gegeben – abhängig von Tauchkursen\, Sichtverhältnissen\, Wetterbedingungen\, etc.
URL:https://www.bubbles.li/kalender/sommertauchen-2025/2025-07-10/
END:VEVENT
BEGIN:VEVENT
DTSTART;TZID=Europe/Vienna:20250717T190000
DTEND;TZID=Europe/Vienna:20250717T220000
DTSTAMP:20260419T143228
CREATED:20241212T180058Z
LAST-MODIFIED:20241210T150332Z
UID:10001316-1752778800-1752789600@www.bubbles.li
SUMMARY:Sommertauchen
DESCRIPTION:Tauchgang in der Region. Tauchplatz wird kurzfristig bekannt gegeben – abhängig von Tauchkursen\, Sichtverhältnissen\, Wetterbedingungen\, etc.
URL:https://www.bubbles.li/kalender/sommertauchen-2025/2025-07-17/
END:VEVENT
BEGIN:VEVENT
DTSTART;TZID=Europe/Vienna:20250724T190000
DTEND;TZID=Europe/Vienna:20250724T220000
DTSTAMP:20260419T143228
CREATED:20241212T180058Z
LAST-MODIFIED:20241210T150332Z
UID:10001317-1753383600-1753394400@www.bubbles.li
SUMMARY:Sommertauchen
DESCRIPTION:Tauchgang in der Region. Tauchplatz wird kurzfristig bekannt gegeben – abhängig von Tauchkursen\, Sichtverhältnissen\, Wetterbedingungen\, etc.
URL:https://www.bubbles.li/kalender/sommertauchen-2025/2025-07-24/
END:VEVENT
BEGIN:VEVENT
DTSTART;TZID=Europe/Vienna:20250731T190000
DTEND;TZID=Europe/Vienna:20250731T220000
DTSTAMP:20260419T143228
CREATED:20241212T180058Z
LAST-MODIFIED:20241210T150332Z
UID:10001318-1753988400-1753999200@www.bubbles.li
SUMMARY:Sommertauchen
DESCRIPTION:Tauchgang in der Region. Tauchplatz wird kurzfristig bekannt gegeben – abhängig von Tauchkursen\, Sichtverhältnissen\, Wetterbedingungen\, etc.
URL:https://www.bubbles.li/kalender/sommertauchen-2025/2025-07-31/
END:VEVENT
END:VCALENDAR